BEGIN:VCALENDAR
VERSION:2.0
PRODID:-//114.23.151.1//NONSGML kigkonsult.se iCalcreator 2.20//
CALSCALE:GREGORIAN
METHOD:PUBLISH
X-WR-CALNAME:Dairy Production Systems
X-WR-CALDESC:Health Management Nutrition Research Education
X-FROM-URL:http://www.dairypro.co.nz
X-WR-TIMEZONE:Pacific/Auckland
BEGIN:VTIMEZONE
TZID:Pacific/Auckland
X-LIC-LOCATION:Pacific/Auckland
BEGIN:STANDARD
DTSTART:20200405T030000
TZOFFSETFROM:+1300
TZOFFSETTO:+1200
TZNAME:NZST
END:STANDARD
BEGIN:DAYLIGHT
DTSTART:20190929T020000
TZOFFSETFROM:+1200
TZOFFSETTO:+1300
TZNAME:NZDT
END:DAYLIGHT
END:VTIMEZONE
BEGIN:VEVENT
UID:ai1ec-1317@www.dairypro.co.nz
DTSTAMP:20191222T023544Z
CATEGORIES;LANGUAGE=en-US:Workshop Waikato
CONTACT:Dairy Production Systems Ltd\; (07) 858 2224\; dps@dairypro.co.nz
DESCRIPTION:<p>Dairy Production Systems Ltd runs a year-long (10 sessions) 
 DPSL Workshop Series\, the next series running from <strong>April 2019 to 
 March 2020</strong> in the Waikato (just out of Hamilton).</p>\n<p>The goa
 ls of the course are:<br />\n1)    To know the Dairy Cow<br />\n2)    To U
 nderstand the Rumen<br />\n3)    To optimize Feed Efficiency<br />\n4)    
 To show that fully feeding dairy cows and managing them for optimum perfor
 mance\,<br />\nhealth and comfort can be highly profitable and learn how t
 o do it</p>\n<p>The Tutorial series provides an opportunity to develop an 
 excellent understanding of how one particular farm is managed and of diffe
 rent options as to how it might be developed from a farm doing average pro
 duction and achieving average profitability to a farm in the top 10%.  A v
 ariety of farms will be visited and the different farming systems discusse
 d in detail.</p>\n<p>For further details please contact the DPSL office.</
 p>
DTSTART;VALUE=DATE:20200220
DTEND;VALUE=DATE:20200221
GEO:-37.88786;+175.383474
LOCATION:OIde Creamery @ Kaipaki Rd\, Waikato\, New Zealand
SEQUENCE:0
SUMMARY:2019/2020 DPSL Tutorial Day 9
URL:http://www.dairypro.co.nz/event/20192020-dpsl-tutorial-day-9/
X-COST-TYPE:free
END:VEVENT
END:VCALENDAR
